BEGIN:VCALENDAR
VERSION:2.0
PRODID:-//Koraworld - ECPv6.3.2//NONSGML v1.0//EN
CALSCALE:GREGORIAN
METHOD:PUBLISH
X-ORIGINAL-URL:https://koraworld.es
X-WR-CALDESC:Eventos para Koraworld
REFRESH-INTERVAL;VALUE=DURATION:PT1H
X-Robots-Tag:noindex
X-PUBLISHED-TTL:PT1H
BEGIN:VTIMEZONE
TZID:UTC
BEGIN:STANDARD
TZOFFSETFROM:+0000
TZOFFSETTO:+0000
TZNAME:UTC
DTSTART:20240101T000000
END:STANDARD
END:VTIMEZONE
BEGIN:VEVENT
DTSTART;TZID=UTC:20240510T203000
DTEND;TZID=UTC:20240510T223000
DTSTAMP:20260420T115413
CREATED:20230112T160152Z
LAST-MODIFIED:20240226T165609Z
UID:24784-1715373000-1715380200@koraworld.es
SUMMARY:Mafalda Cardenal
DESCRIPTION:Probablemente si estás aquí habrás cantado sobre tu ex en el coche y habrás sentido que no hay una sensación mejor. \nVengo a decirte que te equivocabas. Sí que la hay. En esta gira\, gritaremos todos juntos a nuestros ex\, y les diremos que: \nYA NO SOY TU FAN. \nTe espero ahí\, mafalda cardenal 🙂 \n  \nComprar Entrada
URL:https://koraworld.es/event/mafalda-cardenal-bilbao/
LOCATION:Discoteca Holiday\, Madariaga Etorbidea\, 18\, Deusto\, Bilbao\, Bizkaia\, 48014\, España
CATEGORIES:Koraworld
ATTACH;FMTTYPE=image/jpeg:https://koraworld.es/wp-content/uploads/2023/01/mafalda-cardenal-bilbao-evento.jpg
END:VEVENT
END:VCALENDAR